Package: SeqSQC Version: 1.26.0 Command: /home/biocbuild/bbs-3.19-bioc/R/bin/R CMD INSTALL SeqSQC StartedAt: 2024-10-16 16:21:14 -0400 (Wed, 16 Oct 2024) EndedAt: 2024-10-16 16:21:33 -0400 (Wed, 16 Oct 2024) EllapsedTime: 19.3 seconds RetCode: 0 Status: OK