Package: SeqSQC Version: 1.26.0 Command: /Library/Frameworks/R.framework/Resources/bin/R CMD check --install=check:SeqSQC.install-out.txt --library=/Library/Frameworks/R.framework/Resources/library --no-vignettes --timings SeqSQC_1.26.0.tar.gz StartedAt: 2024-10-17 13:04:05 -0400 (Thu, 17 Oct 2024) EndedAt: 2024-10-17 13:11:08 -0400 (Thu, 17 Oct 2024) EllapsedTime: 422.8 seconds RetCode: 0 Status: WARNINGS CheckDir: SeqSQC.Rcheck Warnings: 1