Package: SeqSQC Version: 1.26.0 Command: /Library/Frameworks/R.framework/Resources/bin/R CMD build --keep-empty-dirs --no-resave-data SeqSQC StartedAt: 2024-10-16 23:16:03 -0400 (Wed, 16 Oct 2024) EndedAt: 2024-10-16 23:18:47 -0400 (Wed, 16 Oct 2024) EllapsedTime: 164.3 seconds RetCode: 0 Status: OK PackageFile: SeqSQC_1.26.0.tar.gz PackageFileSize: 4.529 MiB