Package: SeqSQC Version: 1.26.0 Command: rm -rf SeqSQC.buildbin-libdir && mkdir SeqSQC.buildbin-libdir && /Users/biocbuild/BBS/utils/build-universal.sh SeqSQC_1.26.0.tar.gz /Library/Frameworks/R.framework/Resources/bin/R SeqSQC.buildbin-libdir StartedAt: 2024-10-17 17:11:30 -0400 (Thu, 17 Oct 2024) EndedAt: 2024-10-17 17:12:24 -0400 (Thu, 17 Oct 2024) EllapsedTime: 54.2 seconds RetCode: 0 Status: OK PackageFile: SeqSQC_1.26.0.tgz PackageFileSize: 4.844 MiB