Package: SeqSQC Version: 1.26.0 Command: /Library/Frameworks/R.framework/Resources/bin/R CMD check --install=check:SeqSQC.install-out.txt --library=/Library/Frameworks/R.framework/Resources/library --no-vignettes --timings SeqSQC_1.26.0.tar.gz StartedAt: 2024-06-11 05:25:00 -0400 (Tue, 11 Jun 2024) EndedAt: 2024-06-11 05:29:52 -0400 (Tue, 11 Jun 2024) EllapsedTime: 291.8 seconds RetCode: 0 Status: WARNINGS CheckDir: SeqSQC.Rcheck Warnings: 1