Package: SeqSQC Version: 1.26.0 Command: /Library/Frameworks/R.framework/Resources/bin/R CMD build --keep-empty-dirs --no-resave-data SeqSQC StartedAt: 2024-10-17 09:11:19 -0400 (Thu, 17 Oct 2024) EndedAt: 2024-10-17 09:12:41 -0400 (Thu, 17 Oct 2024) EllapsedTime: 82.2 seconds RetCode: 0 Status: OK PackageFile: SeqSQC_1.26.0.tar.gz PackageFileSize: 4.529 MiB