Package: SeqGate Version: 1.14.0 Command: F:\biocbuild\bbs-3.19-bioc\R\bin\R.exe CMD INSTALL SeqGate StartedAt: 2024-06-26 15:50:40 -0400 (Wed, 26 Jun 2024) EndedAt: 2024-06-26 15:51:08 -0400 (Wed, 26 Jun 2024) EllapsedTime: 28.2 seconds RetCode: 0 Status: OK