Package: SeqGate Version: 1.14.0 Command: /Library/Frameworks/R.framework/Resources/bin/R CMD build --keep-empty-dirs --no-resave-data SeqGate StartedAt: 2024-10-16 23:15:19 -0400 (Wed, 16 Oct 2024) EndedAt: 2024-10-16 23:17:39 -0400 (Wed, 16 Oct 2024) EllapsedTime: 140.3 seconds RetCode: 0 Status: OK PackageFile: SeqGate_1.14.0.tar.gz PackageFileSize: 248.6 KiB