Package: SeqGate Version: 1.14.0 Command: /Library/Frameworks/R.framework/Resources/bin/R CMD build --keep-empty-dirs --no-resave-data SeqGate StartedAt: 2024-06-09 18:10:12 -0400 (Sun, 09 Jun 2024) EndedAt: 2024-06-09 18:11:08 -0400 (Sun, 09 Jun 2024) EllapsedTime: 56.4 seconds RetCode: 0 Status: OK PackageFile: SeqGate_1.14.0.tar.gz PackageFileSize: 248.5 KiB