Package: SeqGate Version: 1.14.0 Command: /Library/Frameworks/R.framework/Resources/bin/R CMD check --install=check:SeqGate.install-out.txt --library=/Library/Frameworks/R.framework/Resources/library --no-vignettes --timings SeqGate_1.14.0.tar.gz StartedAt: 2024-06-11 05:21:47 -0400 (Tue, 11 Jun 2024) EndedAt: 2024-06-11 05:26:13 -0400 (Tue, 11 Jun 2024) EllapsedTime: 265.6 seconds RetCode: 0 Status: OK CheckDir: SeqGate.Rcheck Warnings: 0