Package: SeqGate Version: 1.14.0 Command: /Library/Frameworks/R.framework/Resources/bin/R CMD build --keep-empty-dirs --no-resave-data SeqGate StartedAt: 2024-06-10 04:41:20 -0400 (Mon, 10 Jun 2024) EndedAt: 2024-06-10 04:43:28 -0400 (Mon, 10 Jun 2024) EllapsedTime: 128.1 seconds RetCode: 0 Status: OK PackageFile: SeqGate_1.14.0.tar.gz PackageFileSize: 248.6 KiB