Package: SeqGate Version: 1.14.0 Command: rm -rf SeqGate.buildbin-libdir && mkdir SeqGate.buildbin-libdir && /Users/biocbuild/BBS/utils/build-universal.sh SeqGate_1.14.0.tar.gz /Library/Frameworks/R.framework/Resources/bin/R SeqGate.buildbin-libdir StartedAt: 2024-06-11 13:13:01 -0400 (Tue, 11 Jun 2024) EndedAt: 2024-06-11 13:13:43 -0400 (Tue, 11 Jun 2024) EllapsedTime: 42.5 seconds RetCode: 0 Status: OK PackageFile: SeqGate_1.14.0.tgz PackageFileSize: 264.7 KiB