Package: SeqGate Version: 1.14.0 Command: /Library/Frameworks/R.framework/Resources/bin/R CMD check --install=check:SeqGate.install-out.txt --library=/Library/Frameworks/R.framework/Resources/library --no-vignettes --timings SeqGate_1.14.0.tar.gz StartedAt: 2024-10-18 12:05:35 -0400 (Fri, 18 Oct 2024) EndedAt: 2024-10-18 12:08:49 -0400 (Fri, 18 Oct 2024) EllapsedTime: 194.5 seconds RetCode: 0 Status: OK CheckDir: SeqGate.Rcheck Warnings: 0