Package: SeqGate Version: 1.14.0 Command: /Library/Frameworks/R.framework/Resources/bin/R CMD build --keep-empty-dirs --no-resave-data SeqGate StartedAt: 2024-10-17 09:09:27 -0400 (Thu, 17 Oct 2024) EndedAt: 2024-10-17 09:11:00 -0400 (Thu, 17 Oct 2024) EllapsedTime: 93.1 seconds RetCode: 0 Status: OK PackageFile: SeqGate_1.14.0.tar.gz PackageFileSize: 248.6 KiB