Package: SeqGate Version: 1.14.0 Command: rm -rf SeqGate.buildbin-libdir && mkdir SeqGate.buildbin-libdir && /Users/biocbuild/BBS/utils/build-universal.sh SeqGate_1.14.0.tar.gz /Library/Frameworks/R.framework/Resources/bin/R SeqGate.buildbin-libdir StartedAt: 2024-10-15 20:16:47 -0400 (Tue, 15 Oct 2024) EndedAt: 2024-10-15 20:17:18 -0400 (Tue, 15 Oct 2024) EllapsedTime: 30.7 seconds RetCode: 0 Status: OK PackageFile: SeqGate_1.14.0.tgz PackageFileSize: 264.8 KiB