Package: ScreenR Version: 1.6.0 Command: /home/biocbuild/bbs-3.19-bioc/R/bin/R CMD check --install=check:ScreenR.install-out.txt --library=/home/biocbuild/bbs-3.19-bioc/R/site-library --timings ScreenR_1.6.0.tar.gz StartedAt: 2024-10-17 04:56:05 -0400 (Thu, 17 Oct 2024) EndedAt: 2024-10-17 04:59:46 -0400 (Thu, 17 Oct 2024) EllapsedTime: 221.4 seconds RetCode: 0 Status: OK CheckDir: ScreenR.Rcheck Warnings: 0