Package: ScreenR Version: 1.6.0 Maintainer: Emanuel Michele Soda MaintainerEmail: emanuelsoda at gmail.com git_url: https://git.bioconductor.org/packages/ScreenR git_branch: RELEASE_3_19 git_last_commit: ecb0863 git_last_commit_date: 2024-04-30 11:43:04 -0400 (Tue, 30 Apr 2024)