Package: Sconify Version: 1.24.0 Command: chmod a+r Sconify -R && E:\biocbuild\bbs-3.19-bioc\R\bin\R.exe CMD build --keep-empty-dirs --no-resave-data Sconify StartedAt: 2024-10-16 21:48:13 -0400 (Wed, 16 Oct 2024) EndedAt: 2024-10-16 21:49:09 -0400 (Wed, 16 Oct 2024) EllapsedTime: 56.5 seconds RetCode: 0 Status: OK PackageFile: Sconify_1.24.0.tar.gz PackageFileSize: 4.381 MiB