Package: Sconify Version: 1.24.0 Command: rm -rf Sconify.buildbin-libdir && mkdir Sconify.buildbin-libdir && E:\biocbuild\bbs-3.19-bioc\R\bin\R.exe CMD INSTALL --build --library=Sconify.buildbin-libdir Sconify_1.24.0.tar.gz StartedAt: 2024-10-17 08:35:51 -0400 (Thu, 17 Oct 2024) EndedAt: 2024-10-17 08:36:14 -0400 (Thu, 17 Oct 2024) EllapsedTime: 23.6 seconds RetCode: 0 Status: OK PackageFile: Sconify_1.24.0.zip PackageFileSize: 3.114 MiB