Package: Sconify Version: 1.24.0 Command: /home/biocbuild/bbs-3.19-bioc/R/bin/R CMD check --install=check:Sconify.install-out.txt --library=/home/biocbuild/bbs-3.19-bioc/R/site-library --timings Sconify_1.24.0.tar.gz StartedAt: 2024-10-17 04:53:31 -0400 (Thu, 17 Oct 2024) EndedAt: 2024-10-17 04:55:38 -0400 (Thu, 17 Oct 2024) EllapsedTime: 126.2 seconds RetCode: 0 Status: OK CheckDir: Sconify.Rcheck Warnings: 0