Package: Sconify Version: 1.24.0 Command: rm -rf Sconify.buildbin-libdir && mkdir Sconify.buildbin-libdir && /Users/biocbuild/BBS/utils/build-universal.sh Sconify_1.24.0.tar.gz /Library/Frameworks/R.framework/Resources/bin/R Sconify.buildbin-libdir StartedAt: 2024-10-15 20:11:24 -0400 (Tue, 15 Oct 2024) EndedAt: 2024-10-15 20:11:40 -0400 (Tue, 15 Oct 2024) EllapsedTime: 16.1 seconds RetCode: 0 Status: OK PackageFile: Sconify_1.24.0.tgz PackageFileSize: 3.637 MiB