Package: ScaledMatrix Version: 1.12.0 Command: E:\biocbuild\bbs-3.19-bioc\R\bin\R.exe CMD INSTALL ScaledMatrix StartedAt: 2024-10-16 16:16:45 -0400 (Wed, 16 Oct 2024) EndedAt: 2024-10-16 16:17:14 -0400 (Wed, 16 Oct 2024) EllapsedTime: 28.9 seconds RetCode: 0 Status: OK