Package: ScaledMatrix Version: 1.12.0 Command: rm -rf ScaledMatrix.buildbin-libdir && mkdir ScaledMatrix.buildbin-libdir && E:\biocbuild\bbs-3.19-bioc\R\bin\R.exe CMD INSTALL --build --library=ScaledMatrix.buildbin-libdir ScaledMatrix_1.12.0.tar.gz StartedAt: 2024-10-17 08:33:58 -0400 (Thu, 17 Oct 2024) EndedAt: 2024-10-17 08:34:57 -0400 (Thu, 17 Oct 2024) EllapsedTime: 59.1 seconds RetCode: 0 Status: OK PackageFile: ScaledMatrix_1.12.0.zip PackageFileSize: 607.6 KiB