Package: ScaledMatrix Version: 1.12.0 Command: /home/biocbuild/bbs-3.19-bioc/R/bin/R CMD build --keep-empty-dirs --no-resave-data ScaledMatrix StartedAt: 2024-10-16 20:36:52 -0400 (Wed, 16 Oct 2024) EndedAt: 2024-10-16 20:39:23 -0400 (Wed, 16 Oct 2024) EllapsedTime: 151.4 seconds RetCode: 0 Status: OK PackageFile: ScaledMatrix_1.12.0.tar.gz PackageFileSize: 306 KiB