Package: ScaledMatrix Version: 1.12.0 Command: rm -rf ScaledMatrix.buildbin-libdir && mkdir ScaledMatrix.buildbin-libdir && /Users/biocbuild/BBS/utils/build-universal.sh ScaledMatrix_1.12.0.tar.gz /Library/Frameworks/R.framework/Resources/bin/R ScaledMatrix.buildbin-libdir StartedAt: 2024-06-11 13:02:02 -0400 (Tue, 11 Jun 2024) EndedAt: 2024-06-11 13:02:41 -0400 (Tue, 11 Jun 2024) EllapsedTime: 39.1 seconds RetCode: 0 Status: OK PackageFile: ScaledMatrix_1.12.0.tgz PackageFileSize: 606.4 KiB