Package: ScaledMatrix Version: 1.12.0 Command: /Library/Frameworks/R.framework/Resources/bin/R CMD INSTALL ScaledMatrix StartedAt: 2024-10-16 15:48:29 -0400 (Wed, 16 Oct 2024) EndedAt: 2024-10-16 15:48:49 -0400 (Wed, 16 Oct 2024) EllapsedTime: 20.6 seconds RetCode: 0 Status: OK