Package: ScaledMatrix Version: 1.12.0 Command: /Library/Frameworks/R.framework/Resources/bin/R CMD build --keep-empty-dirs --no-resave-data ScaledMatrix StartedAt: 2024-10-17 08:18:22 -0400 (Thu, 17 Oct 2024) EndedAt: 2024-10-17 08:22:04 -0400 (Thu, 17 Oct 2024) EllapsedTime: 222.4 seconds RetCode: 0 Status: OK PackageFile: ScaledMatrix_1.12.0.tar.gz PackageFileSize: 305.9 KiB