Package: Scale4C Version: 1.26.0 Command: E:\biocbuild\bbs-3.19-bioc\R\bin\R.exe CMD INSTALL Scale4C StartedAt: 2024-10-16 16:34:30 -0400 (Wed, 16 Oct 2024) EndedAt: 2024-10-16 16:35:13 -0400 (Wed, 16 Oct 2024) EllapsedTime: 43.6 seconds RetCode: 0 Status: OK