Package: Scale4C Version: 1.26.0 Command: E:\biocbuild\bbs-3.19-bioc\R\bin\R.exe CMD check --no-multiarch --install=check:Scale4C.install-out.txt --library=E:\biocbuild\bbs-3.19-bioc\R\library --no-vignettes --timings Scale4C_1.26.0.tar.gz StartedAt: 2024-10-17 05:22:20 -0400 (Thu, 17 Oct 2024) EndedAt: 2024-10-17 05:25:52 -0400 (Thu, 17 Oct 2024) EllapsedTime: 212.6 seconds RetCode: 0 Status: OK CheckDir: Scale4C.Rcheck Warnings: 0