Package: Scale4C Version: 1.26.0 Command: chmod a+r Scale4C -R && E:\biocbuild\bbs-3.19-bioc\R\bin\R.exe CMD build --keep-empty-dirs --no-resave-data Scale4C StartedAt: 2024-10-16 21:42:06 -0400 (Wed, 16 Oct 2024) EndedAt: 2024-10-16 21:44:00 -0400 (Wed, 16 Oct 2024) EllapsedTime: 114.0 seconds RetCode: 0 Status: OK PackageFile: Scale4C_1.26.0.tar.gz PackageFileSize: 4.902 MiB