Package: Scale4C Version: 1.26.0 Command: rm -rf Scale4C.buildbin-libdir && mkdir Scale4C.buildbin-libdir && E:\biocbuild\bbs-3.19-bioc\R\bin\R.exe CMD INSTALL --build --library=Scale4C.buildbin-libdir Scale4C_1.26.0.tar.gz StartedAt: 2024-10-17 08:33:56 -0400 (Thu, 17 Oct 2024) EndedAt: 2024-10-17 08:34:43 -0400 (Thu, 17 Oct 2024) EllapsedTime: 47.3 seconds RetCode: 0 Status: OK PackageFile: Scale4C_1.26.0.zip PackageFileSize: 2.146 MiB