Package: Scale4C Version: 1.26.0 Command: /Library/Frameworks/R.framework/Resources/bin/R CMD INSTALL Scale4C StartedAt: 2024-06-09 15:13:35 -0400 (Sun, 09 Jun 2024) EndedAt: 2024-06-09 15:14:09 -0400 (Sun, 09 Jun 2024) EllapsedTime: 34.2 seconds RetCode: 0 Status: OK