Package: Scale4C Version: 1.26.0 Command: rm -rf Scale4C.buildbin-libdir && mkdir Scale4C.buildbin-libdir && /Users/biocbuild/BBS/utils/build-universal.sh Scale4C_1.26.0.tar.gz /Library/Frameworks/R.framework/Resources/bin/R Scale4C.buildbin-libdir StartedAt: 2024-10-15 20:05:39 -0400 (Tue, 15 Oct 2024) EndedAt: 2024-10-15 20:06:21 -0400 (Tue, 15 Oct 2024) EllapsedTime: 42.4 seconds RetCode: 0 Status: OK PackageFile: Scale4C_1.26.0.tgz PackageFileSize: 2.141 MiB