Package: SamSPECTRAL Version: 1.58.0 Command: rm -rf SamSPECTRAL.buildbin-libdir && mkdir SamSPECTRAL.buildbin-libdir && F:\biocbuild\bbs-3.19-bioc\R\bin\R.exe CMD INSTALL --build --library=SamSPECTRAL.buildbin-libdir SamSPECTRAL_1.58.0.tar.gz StartedAt: 2024-06-27 08:51:08 -0400 (Thu, 27 Jun 2024) EndedAt: 2024-06-27 08:51:24 -0400 (Thu, 27 Jun 2024) EllapsedTime: 16.2 seconds RetCode: 0 Status: OK PackageFile: SamSPECTRAL_1.58.0.zip PackageFileSize: 898.6 KiB