Package: SamSPECTRAL Version: 1.58.0 Command: /home/biocbuild/bbs-3.19-bioc/R/bin/R CMD check --install=check:SamSPECTRAL.install-out.txt --library=/home/biocbuild/bbs-3.19-bioc/R/site-library --timings SamSPECTRAL_1.58.0.tar.gz StartedAt: 2024-10-17 04:40:22 -0400 (Thu, 17 Oct 2024) EndedAt: 2024-10-17 04:41:35 -0400 (Thu, 17 Oct 2024) EllapsedTime: 73.2 seconds RetCode: 0 Status: WARNINGS CheckDir: SamSPECTRAL.Rcheck Warnings: 2