Package: SamSPECTRAL Version: 1.58.0 Command: /home/biocbuild/bbs-3.19-bioc/R/bin/R CMD build --keep-empty-dirs --no-resave-data SamSPECTRAL StartedAt: 2024-10-16 20:35:54 -0400 (Wed, 16 Oct 2024) EndedAt: 2024-10-16 20:36:48 -0400 (Wed, 16 Oct 2024) EllapsedTime: 54.2 seconds RetCode: 0 Status: OK PackageFile: SamSPECTRAL_1.58.0.tar.gz PackageFileSize: 829.6 KiB