Package: SamSPECTRAL Version: 1.58.0 Command: /Library/Frameworks/R.framework/Resources/bin/R CMD build --keep-empty-dirs --no-resave-data SamSPECTRAL StartedAt: 2024-10-16 22:51:04 -0400 (Wed, 16 Oct 2024) EndedAt: 2024-10-16 22:52:51 -0400 (Wed, 16 Oct 2024) EllapsedTime: 107.5 seconds RetCode: 0 Status: OK PackageFile: SamSPECTRAL_1.58.0.tar.gz PackageFileSize: 936.4 KiB