Package: SamSPECTRAL Version: 1.58.0 Command: rm -rf SamSPECTRAL.buildbin-libdir && mkdir SamSPECTRAL.buildbin-libdir && /Users/biocbuild/BBS/utils/build-universal.sh SamSPECTRAL_1.58.0.tar.gz /Library/Frameworks/R.framework/Resources/bin/R SamSPECTRAL.buildbin-libdir StartedAt: 2024-10-17 17:05:26 -0400 (Thu, 17 Oct 2024) EndedAt: 2024-10-17 17:05:36 -0400 (Thu, 17 Oct 2024) EllapsedTime: 9.9 seconds RetCode: 0 Status: OK PackageFile: SamSPECTRAL_1.58.0.tgz PackageFileSize: 995.2 KiB