Package: SamSPECTRAL Version: 1.58.0 Command: /Library/Frameworks/R.framework/Resources/bin/R CMD INSTALL SamSPECTRAL StartedAt: 2024-10-16 15:39:54 -0400 (Wed, 16 Oct 2024) EndedAt: 2024-10-16 15:39:58 -0400 (Wed, 16 Oct 2024) EllapsedTime: 3.7 seconds RetCode: 0 Status: OK