Package: SamSPECTRAL Version: 1.58.0 Command: /Library/Frameworks/R.framework/Resources/bin/R CMD build --keep-empty-dirs --no-resave-data SamSPECTRAL StartedAt: 2024-10-17 08:12:52 -0400 (Thu, 17 Oct 2024) EndedAt: 2024-10-17 08:14:24 -0400 (Thu, 17 Oct 2024) EllapsedTime: 91.8 seconds RetCode: 0 Status: OK PackageFile: SamSPECTRAL_1.58.0.tar.gz PackageFileSize: 936.2 KiB