Package: SamSPECTRAL Version: 1.58.0 Maintainer: Habil MaintainerEmail: zare at u.washington.edu git_url: https://git.bioconductor.org/packages/SamSPECTRAL git_branch: RELEASE_3_19 git_last_commit: 2a87809 git_last_commit_date: 2024-04-30 10:21:22 -0400 (Tue, 30 Apr 2024)