Package: SVMDO Version: 1.4.7 Command: E:\biocbuild\bbs-3.19-bioc\R\bin\R.exe CMD check --no-multiarch --install=check:SVMDO.install-out.txt --library=E:\biocbuild\bbs-3.19-bioc\R\library --no-vignettes --timings SVMDO_1.4.7.tar.gz StartedAt: 2024-10-17 06:21:17 -0400 (Thu, 17 Oct 2024) EndedAt: 2024-10-17 06:27:08 -0400 (Thu, 17 Oct 2024) EllapsedTime: 351.0 seconds RetCode: 0 Status: OK CheckDir: SVMDO.Rcheck Warnings: 0