Package: SVMDO Version: 1.4.7 Command: chmod a+r SVMDO -R && E:\biocbuild\bbs-3.19-bioc\R\bin\R.exe CMD build --keep-empty-dirs --no-resave-data SVMDO StartedAt: 2024-10-16 22:15:47 -0400 (Wed, 16 Oct 2024) EndedAt: 2024-10-16 22:16:47 -0400 (Wed, 16 Oct 2024) EllapsedTime: 60.2 seconds RetCode: 0 Status: OK PackageFile: SVMDO_1.4.7.tar.gz PackageFileSize: 2.379 MiB