Package: SVMDO Version: 1.4.7 Command: rm -rf SVMDO.buildbin-libdir && mkdir SVMDO.buildbin-libdir && E:\biocbuild\bbs-3.19-bioc\R\bin\R.exe CMD INSTALL --build --library=SVMDO.buildbin-libdir SVMDO_1.4.7.tar.gz StartedAt: 2024-10-17 08:45:01 -0400 (Thu, 17 Oct 2024) EndedAt: 2024-10-17 08:46:01 -0400 (Thu, 17 Oct 2024) EllapsedTime: 60.4 seconds RetCode: 0 Status: OK PackageFile: SVMDO_1.4.7.zip PackageFileSize: 2.367 MiB