Package: SVMDO Version: 1.4.0 Command: rm -rf SVMDO.buildbin-libdir && mkdir SVMDO.buildbin-libdir && F:\biocbuild\bbs-3.19-bioc\R\bin\R.exe CMD INSTALL --build --library=SVMDO.buildbin-libdir SVMDO_1.4.0.tar.gz StartedAt: 2024-06-27 09:01:06 -0400 (Thu, 27 Jun 2024) EndedAt: 2024-06-27 09:02:22 -0400 (Thu, 27 Jun 2024) EllapsedTime: 76.0 seconds RetCode: 0 Status: OK PackageFile: SVMDO_1.4.0.zip PackageFileSize: 2.371 MiB