Package: SVMDO Version: 1.4.7 Command: /home/biocbuild/bbs-3.19-bioc/R/bin/R CMD check --install=check:SVMDO.install-out.txt --library=/home/biocbuild/bbs-3.19-bioc/R/site-library --timings SVMDO_1.4.7.tar.gz StartedAt: 2024-10-17 05:42:33 -0400 (Thu, 17 Oct 2024) EndedAt: 2024-10-17 05:47:30 -0400 (Thu, 17 Oct 2024) EllapsedTime: 297.6 seconds RetCode: 0 Status: OK CheckDir: SVMDO.Rcheck Warnings: 0