Package: SVMDO Version: 1.4.7 Command: /home/biocbuild/bbs-3.19-bioc/R/bin/R CMD build --keep-empty-dirs --no-resave-data SVMDO StartedAt: 2024-10-16 21:05:57 -0400 (Wed, 16 Oct 2024) EndedAt: 2024-10-16 21:06:34 -0400 (Wed, 16 Oct 2024) EllapsedTime: 37.1 seconds RetCode: 0 Status: OK PackageFile: SVMDO_1.4.7.tar.gz PackageFileSize: 2.379 MiB