Package: SVMDO Version: 1.4.7 Command: /Library/Frameworks/R.framework/Resources/bin/R CMD check --install=check:SVMDO.install-out.txt --library=/Library/Frameworks/R.framework/Resources/library --no-vignettes --timings SVMDO_1.4.7.tar.gz StartedAt: 2024-10-17 14:05:48 -0400 (Thu, 17 Oct 2024) EndedAt: 2024-10-17 14:18:13 -0400 (Thu, 17 Oct 2024) EllapsedTime: 744.8 seconds RetCode: 0 Status: OK CheckDir: SVMDO.Rcheck Warnings: 0