Package: SVMDO Version: 1.4.7 Command: /Library/Frameworks/R.framework/Resources/bin/R CMD build --keep-empty-dirs --no-resave-data SVMDO StartedAt: 2024-10-16 23:51:08 -0400 (Wed, 16 Oct 2024) EndedAt: 2024-10-16 23:52:43 -0400 (Wed, 16 Oct 2024) EllapsedTime: 94.9 seconds RetCode: 0 Status: OK PackageFile: SVMDO_1.4.7.tar.gz PackageFileSize: 2.379 MiB