Package: SVMDO Version: 1.4.7 Command: rm -rf SVMDO.buildbin-libdir && mkdir SVMDO.buildbin-libdir && /Users/biocbuild/BBS/utils/build-universal.sh SVMDO_1.4.7.tar.gz /Library/Frameworks/R.framework/Resources/bin/R SVMDO.buildbin-libdir StartedAt: 2024-10-17 17:19:22 -0400 (Thu, 17 Oct 2024) EndedAt: 2024-10-17 17:20:46 -0400 (Thu, 17 Oct 2024) EllapsedTime: 83.6 seconds RetCode: 0 Status: OK PackageFile: SVMDO_1.4.7.tgz PackageFileSize: 2.361 MiB